﻿BEGIN:VCALENDAR
VERSION:2.0
PRODID:-//Gruppo Trattori D&#039;epoca Ticino - ECPv6.3.3.1//NONSGML v1.0//EN
CALSCALE:GREGORIAN
METHOD:PUBLISH
X-WR-CALNAME:Gruppo Trattori D&#039;epoca Ticino
X-ORIGINAL-URL:https://trattoriepoca.ch
X-WR-CALDESC:Eventi per Gruppo Trattori D&#039;epoca Ticino
REFRESH-INTERVAL;VALUE=DURATION:PT1H
X-Robots-Tag:noindex
X-PUBLISHED-TTL:PT1H
BEGIN:VTIMEZONE
TZID:Europe/Zurich
BEGIN:DAYLIGHT
TZOFFSETFROM:+0100
TZOFFSETTO:+0200
TZNAME:CEST
DTSTART:20250330T010000
END:DAYLIGHT
BEGIN:STANDARD
TZOFFSETFROM:+0200
TZOFFSETTO:+0100
TZNAME:CET
DTSTART:20251026T010000
END:STANDARD
END:VTIMEZONE
BEGIN:VEVENT
DTSTART;TZID=Europe/Zurich:20250801T080000
DTEND;TZID=Europe/Zurich:20250801T170000
DTSTAMP:20260420T171935
CREATED:20250114T110520Z
LAST-MODIFIED:20250114T110520Z
UID:15278-1754035200-1754067600@trattoriepoca.ch
SUMMARY:Natale della Patria a sorpresa
DESCRIPTION:Natale della Patria a sorpresa
URL:https://trattoriepoca.ch/evento/natale-della-patria-a-sorpresa-2/
CATEGORIES:Eventi 2025
ATTACH;FMTTYPE=image/jpeg:https://trattoriepoca.ch/wp-content/uploads/2024/02/fuochi.jpg
END:VEVENT
BEGIN:VEVENT
DTSTART;TZID=Europe/Zurich:20250815T080000
DTEND;TZID=Europe/Zurich:20250815T170000
DTSTAMP:20260420T171935
CREATED:20250114T203132Z
LAST-MODIFIED:20250114T203143Z
UID:15283-1755244800-1755277200@trattoriepoca.ch
SUMMARY:Festa della transumanza - San Bernardino
DESCRIPTION:Festa della transumanza a San Bernardino
URL:https://trattoriepoca.ch/evento/festa-della-transumanza-a-san-bernardino-3/
LOCATION:Festa del paese – San Bernardino\, San Bernardino\, Svizzera
CATEGORIES:Eventi 2025
ATTACH;FMTTYPE=image/jpeg:https://trattoriepoca.ch/wp-content/uploads/2017/02/San-Bernardino.jpg
END:VEVENT
BEGIN:VEVENT
DTSTART;VALUE=DATE:20250822
DTEND;VALUE=DATE:20250825
DTSTAMP:20260420T171935
CREATED:20250114T111343Z
LAST-MODIFIED:20250114T202931Z
UID:15280-1755820800-1756079999@trattoriepoca.ch
SUMMARY:Raduno Nazionale - Möriken AG
DESCRIPTION:Raduno Nazionale\, Möriken AG
URL:https://trattoriepoca.ch/evento/raduno-nazionale-3/
LOCATION:Möriken\, Möriken\, Svizzera
CATEGORIES:Eventi 2025
END:VEVENT
END:VCALENDAR