﻿BEGIN:VCALENDAR
VERSION:2.0
PRODID:-//Gruppo Trattori D&#039;epoca Ticino - ECPv6.3.3.1//NONSGML v1.0//EN
CALSCALE:GREGORIAN
METHOD:PUBLISH
X-WR-CALNAME:Gruppo Trattori D&#039;epoca Ticino
X-ORIGINAL-URL:https://trattoriepoca.ch
X-WR-CALDESC:Eventi per Gruppo Trattori D&#039;epoca Ticino
REFRESH-INTERVAL;VALUE=DURATION:PT1H
X-Robots-Tag:noindex
X-PUBLISHED-TTL:PT1H
BEGIN:VTIMEZONE
TZID:Europe/Zurich
BEGIN:DAYLIGHT
TZOFFSETFROM:+0100
TZOFFSETTO:+0200
TZNAME:CEST
DTSTART:20250330T010000
END:DAYLIGHT
BEGIN:STANDARD
TZOFFSETFROM:+0200
TZOFFSETTO:+0100
TZNAME:CET
DTSTART:20251026T010000
END:STANDARD
END:VTIMEZONE
BEGIN:VEVENT
DTSTART;TZID=Europe/Zurich:20250706T080000
DTEND;TZID=Europe/Zurich:20250706T170000
DTSTAMP:20260421T061958
CREATED:20250114T110304Z
LAST-MODIFIED:20250114T204615Z
UID:15274-1751788800-1751821200@trattoriepoca.ch
SUMMARY:Giro della Valle Onsernone
DESCRIPTION:Giro della Valle Onsernone
URL:https://trattoriepoca.ch/evento/giro-della-valle-onsernone/
CATEGORIES:Eventi 2025
ATTACH;FMTTYPE=image/jpeg:https://trattoriepoca.ch/wp-content/uploads/2025/01/valle-onsernone.jpg
END:VEVENT
BEGIN:VEVENT
DTSTART;VALUE=DATE:20250718
DTEND;VALUE=DATE:20250721
DTSTAMP:20260421T061958
CREATED:20250114T110416Z
LAST-MODIFIED:20250114T204654Z
UID:15276-1752796800-1753055999@trattoriepoca.ch
SUMMARY:San Martin di Tratùr Vècc
DESCRIPTION:San Martin di Tratùr Vècc\, Mendrisio.
URL:https://trattoriepoca.ch/evento/san-martin-di-tratur-vecc-2/
LOCATION:Mendrisio\, Mendrisio
CATEGORIES:Eventi 2025
ATTACH;FMTTYPE=image/jpeg:https://trattoriepoca.ch/wp-content/uploads/2025/01/tratur-vecc-mendrisio.jpg
END:VEVENT
END:VCALENDAR