﻿BEGIN:VCALENDAR
VERSION:2.0
PRODID:-//Gruppo Trattori D&#039;epoca Ticino - ECPv6.3.3.1//NONSGML v1.0//EN
CALSCALE:GREGORIAN
METHOD:PUBLISH
X-ORIGINAL-URL:https://trattoriepoca.ch
X-WR-CALDESC:Eventi per Gruppo Trattori D&#039;epoca Ticino
REFRESH-INTERVAL;VALUE=DURATION:PT1H
X-Robots-Tag:noindex
X-PUBLISHED-TTL:PT1H
BEGIN:VTIMEZONE
TZID:Europe/Zurich
BEGIN:DAYLIGHT
TZOFFSETFROM:+0100
TZOFFSETTO:+0200
TZNAME:CEST
DTSTART:20250330T010000
END:DAYLIGHT
BEGIN:STANDARD
TZOFFSETFROM:+0200
TZOFFSETTO:+0100
TZNAME:CET
DTSTART:20251026T010000
END:STANDARD
END:VTIMEZONE
BEGIN:VEVENT
DTSTART;VALUE=DATE:20250503
DTEND;VALUE=DATE:20250505
DTSTAMP:20260421T164251
CREATED:20250114T110022Z
LAST-MODIFIED:20250114T110022Z
UID:15270-1746230400-1746403199@trattoriepoca.ch
SUMMARY:Fera dal Pian a Scairolo
DESCRIPTION:Fera dal Pian a Scairolo di Collina d’Oro
URL:https://trattoriepoca.ch/evento/fera-dal-pian-a-scairolo/
LOCATION:Pian Scairolo\, Noranco\, 6915\, Svizzera
CATEGORIES:Eventi 2025
ATTACH;FMTTYPE=image/png:https://trattoriepoca.ch/wp-content/uploads/2023/02/Féra-dal-Pian.png
END:VEVENT
END:VCALENDAR