﻿BEGIN:VCALENDAR
VERSION:2.0
PRODID:-//Gruppo Trattori D&#039;epoca Ticino - ECPv6.3.3.1//NONSGML v1.0//EN
CALSCALE:GREGORIAN
METHOD:PUBLISH
X-WR-CALNAME:Gruppo Trattori D&#039;epoca Ticino
X-ORIGINAL-URL:https://trattoriepoca.ch
X-WR-CALDESC:Eventi per Gruppo Trattori D&#039;epoca Ticino
REFRESH-INTERVAL;VALUE=DURATION:PT1H
X-Robots-Tag:noindex
X-PUBLISHED-TTL:PT1H
BEGIN:VTIMEZONE
TZID:Europe/Zurich
BEGIN:DAYLIGHT
TZOFFSETFROM:+0100
TZOFFSETTO:+0200
TZNAME:CEST
DTSTART:20250330T010000
END:DAYLIGHT
BEGIN:STANDARD
TZOFFSETFROM:+0200
TZOFFSETTO:+0100
TZNAME:CET
DTSTART:20251026T010000
END:STANDARD
END:VTIMEZONE
BEGIN:VEVENT
DTSTART;TZID=Europe/Zurich:20250309T080000
DTEND;TZID=Europe/Zurich:20250309T170000
DTSTAMP:20260421T200536
CREATED:20250114T105145Z
LAST-MODIFIED:20250212T093900Z
UID:15265-1741507200-1741539600@trattoriepoca.ch
SUMMARY:Fiera di San Provino
DESCRIPTION:PROGRAMMA USCITA DI S. PROVINO – DOMENICA 09 MARZO 2025\n  \nRITROVO:\nORE 09.30\nRistorante Piodella\, Muzzano Caffè e croissant offerti dal gruppo GTET \nPARTENZA:\nORE 10.30\npartenza e giro della regione.\nMulini di Bioggio – Bioggio – Gaggio – Cimo – Guasti di Vernate – Cassina d’Agno – Agno fiera San Provino. (percorso di 12 km) \nPRANZO:\nORE 11.30\narrivo a San Provino ad Agno e posteggio dei mezzi. \nORE 12.00 ca.\npranzo in comune offerto ai trattoristi dalla GRL nel capannone di San Provino. \nORE 16.30 ca.\nfine della manifestazione. \nPER QUESTIONI DI SPAZIO VI CHIEDIAMO DI PORTARE UN SOLO TRATTORE PER NUCLEO FAMIGLIARE. \nISCRIZIONE:\nENTRO MERCOLEDÌ 05 MARZO 2025 \nper mail: simonarossini1204@gmail.com\nTel.: 078 709 45 95
URL:https://trattoriepoca.ch/evento/fiera-di-san-provino-4/
LOCATION:Agno
CATEGORIES:Eventi 2025
ATTACH;FMTTYPE=image/jpeg:https://trattoriepoca.ch/wp-content/uploads/2025/01/fiera-san-provino.jpg
END:VEVENT
END:VCALENDAR